BEGIN:VCALENDAR
VERSION:2.0
PRODID:-//EMCO WORLD - ECPv6.15.20//NONSGML v1.0//EN
CALSCALE:GREGORIAN
METHOD:PUBLISH
X-WR-CALNAME:EMCO WORLD
X-ORIGINAL-URL:https://emcoworld.org
X-WR-CALDESC:Events for EMCO WORLD
REFRESH-INTERVAL;VALUE=DURATION:PT1H
X-Robots-Tag:noindex
X-PUBLISHED-TTL:PT1H
BEGIN:VTIMEZONE
TZID:UTC
BEGIN:STANDARD
TZOFFSETFROM:+0000
TZOFFSETTO:+0000
TZNAME:UTC
DTSTART:20250101T000000
END:STANDARD
END:VTIMEZONE
BEGIN:VEVENT
DTSTART;TZID=UTC:20260509T110000
DTEND;TZID=UTC:20260509T130000
DTSTAMP:20260423T131535
CREATED:20260422T071659Z
LAST-MODIFIED:20260422T071659Z
UID:4637-1778324400-1778331600@emcoworld.org
SUMMARY:Empowering Moms & Children Organization (EMCO Charity)
DESCRIPTION:Dear Community\, Join us for Mother’s Day Walk Fundraiser – a meaningful day of connection\, celebration\, and support. \nSaturday\, May 9 11:00 AM – 1:00 PM Mothers Center 9199 Yonge Street\, Richmond Hill. \nWe’re honored to have government leaders joining us to support the event. \nEnjoy a joyful day with: • A community walk • Barbecue & refreshments • Fun activities for kids \nCome together to support mothers and children in need. \nDonate: info@emcoworld.org Website: www.emcoworld.org @emcoworld Phone: 905-762-0880
URL:https://emcoworld.org/event/empowering-moms-children-organization-emco-charity/
LOCATION:Mother’s Center\, 9199 Yonge St\, Richmond Hill\, Ontario\, L4C 1H7\, Canada
ORGANIZER;CN="EMCO":MAILTO:info@emcoworld.org
END:VEVENT
END:VCALENDAR